BEGIN:VCALENDAR
VERSION:2.0
PRODID:-//Stigmata of St. Francis Fraternity - ECPv6.13.2.1//NONSGML v1.0//EN
CALSCALE:GREGORIAN
METHOD:PUBLISH
X-WR-CALNAME:Stigmata of St. Francis Fraternity
X-ORIGINAL-URL:https://stigmataofstfrancis.org
X-WR-CALDESC:Events for Stigmata of St. Francis Fraternity
REFRESH-INTERVAL;VALUE=DURATION:PT1H
X-Robots-Tag:noindex
X-PUBLISHED-TTL:PT1H
BEGIN:VTIMEZONE
TZID:America/New_York
BEGIN:DAYLIGHT
TZOFFSETFROM:-0500
TZOFFSETTO:-0400
TZNAME:EDT
DTSTART:20240310T070000
END:DAYLIGHT
BEGIN:STANDARD
TZOFFSETFROM:-0400
TZOFFSETTO:-0500
TZNAME:EST
DTSTART:20241103T060000
END:STANDARD
BEGIN:DAYLIGHT
TZOFFSETFROM:-0500
TZOFFSETTO:-0400
TZNAME:EDT
DTSTART:20250309T070000
END:DAYLIGHT
BEGIN:STANDARD
TZOFFSETFROM:-0400
TZOFFSETTO:-0500
TZNAME:EST
DTSTART:20251102T060000
END:STANDARD
BEGIN:DAYLIGHT
TZOFFSETFROM:-0500
TZOFFSETTO:-0400
TZNAME:EDT
DTSTART:20260308T070000
END:DAYLIGHT
BEGIN:STANDARD
TZOFFSETFROM:-0400
TZOFFSETTO:-0500
TZNAME:EST
DTSTART:20261101T060000
END:STANDARD
END:VTIMEZONE
BEGIN:VEVENT
DTSTART;TZID=America/New_York:20260614T140000
DTEND;TZID=America/New_York:20260614T170000
DTSTAMP:20260423T195719
CREATED:20250821T020642Z
LAST-MODIFIED:20250821T020642Z
UID:1150-1781445600-1781456400@stigmataofstfrancis.org
SUMMARY:Fraternity Meeting – St. Benedict Johns Creek\, GA
DESCRIPTION:
URL:https://stigmataofstfrancis.org/event/fraternity-meeting-st-benedict-johns-creek-ga-20/
END:VEVENT
BEGIN:VEVENT
DTSTART;TZID=America/New_York:20260517T140000
DTEND;TZID=America/New_York:20260517T170000
DTSTAMP:20260423T195719
CREATED:20250821T020607Z
LAST-MODIFIED:20250821T020607Z
UID:1148-1779026400-1779037200@stigmataofstfrancis.org
SUMMARY:Fraternity Meeting – St. Benedict Johns Creek\, GA
DESCRIPTION:
URL:https://stigmataofstfrancis.org/event/fraternity-meeting-st-benedict-johns-creek-ga-19/
END:VEVENT
BEGIN:VEVENT
DTSTART;TZID=America/New_York:20260412T140000
DTEND;TZID=America/New_York:20260412T170000
DTSTAMP:20260423T195719
CREATED:20250821T020515Z
LAST-MODIFIED:20260203T003758Z
UID:1146-1776002400-1776013200@stigmataofstfrancis.org
SUMMARY:Fraternity Meeting – St. Benedict Johns Creek\, GA
DESCRIPTION:
URL:https://stigmataofstfrancis.org/event/fraternity-meeting-st-benedict-johns-creek-ga-18/
END:VEVENT
BEGIN:VEVENT
DTSTART;TZID=America/New_York:20260315T140000
DTEND;TZID=America/New_York:20260315T170000
DTSTAMP:20260423T195719
CREATED:20250821T020451Z
LAST-MODIFIED:20260203T003723Z
UID:1144-1773583200-1773594000@stigmataofstfrancis.org
SUMMARY:Fraternity Meeting – St. Benedict Johns Creek\, GA
DESCRIPTION:
URL:https://stigmataofstfrancis.org/event/fraternity-meeting-st-benedict-johns-creek-ga-17/
END:VEVENT
BEGIN:VEVENT
DTSTART;TZID=America/New_York:20260208T140000
DTEND;TZID=America/New_York:20260208T170000
DTSTAMP:20260423T195719
CREATED:20250821T020403Z
LAST-MODIFIED:20250821T020403Z
UID:1142-1770559200-1770570000@stigmataofstfrancis.org
SUMMARY:Fraternity Meeting – St. Benedict Johns Creek\, GA
DESCRIPTION:
URL:https://stigmataofstfrancis.org/event/fraternity-meeting-st-benedict-johns-creek-ga-16/
END:VEVENT
BEGIN:VEVENT
DTSTART;TZID=America/New_York:20260118T140000
DTEND;TZID=America/New_York:20260118T170000
DTSTAMP:20260423T195719
CREATED:20250821T020337Z
LAST-MODIFIED:20250821T020337Z
UID:1140-1768744800-1768755600@stigmataofstfrancis.org
SUMMARY:Fraternity Meeting – St. Benedict Johns Creek\, GA
DESCRIPTION:
URL:https://stigmataofstfrancis.org/event/fraternity-meeting-st-benedict-johns-creek-ga-15/
END:VEVENT
BEGIN:VEVENT
DTSTART;TZID=America/New_York:20251221T140000
DTEND;TZID=America/New_York:20251221T170000
DTSTAMP:20260423T195719
CREATED:20250821T020309Z
LAST-MODIFIED:20251215T035929Z
UID:1138-1766325600-1766336400@stigmataofstfrancis.org
SUMMARY:Fraternity Meeting – St. Monica's Duluth\, GA
DESCRIPTION:
URL:https://stigmataofstfrancis.org/event/fraternity-meeting-st-benedict-johns-creek-ga-14/
END:VEVENT
BEGIN:VEVENT
DTSTART;TZID=America/New_York:20251109T140000
DTEND;TZID=America/New_York:20251109T170000
DTSTAMP:20260423T195719
CREATED:20250821T020202Z
LAST-MODIFIED:20250821T020202Z
UID:1136-1762696800-1762707600@stigmataofstfrancis.org
SUMMARY:Fraternity Meeting – St. Benedict Johns Creek\, GA
DESCRIPTION:
URL:https://stigmataofstfrancis.org/event/fraternity-meeting-st-benedict-johns-creek-ga-13/
END:VEVENT
BEGIN:VEVENT
DTSTART;TZID=America/New_York:20251012T140000
DTEND;TZID=America/New_York:20251012T170000
DTSTAMP:20260423T195719
CREATED:20250821T020113Z
LAST-MODIFIED:20250821T020113Z
UID:1134-1760277600-1760288400@stigmataofstfrancis.org
SUMMARY:Fraternity Meeting – St. Benedict Johns Creek\, GA
DESCRIPTION:
URL:https://stigmataofstfrancis.org/event/fraternity-meeting-st-benedict-johns-creek-ga-12/
END:VEVENT
BEGIN:VEVENT
DTSTART;TZID=America/New_York:20250921T140000
DTEND;TZID=America/New_York:20250921T170000
DTSTAMP:20260423T195719
CREATED:20250821T020025Z
LAST-MODIFIED:20250821T020025Z
UID:1132-1758463200-1758474000@stigmataofstfrancis.org
SUMMARY:Fraternity Meeting – St. Benedict Johns Creek\, GA
DESCRIPTION:
URL:https://stigmataofstfrancis.org/event/fraternity-meeting-st-benedict-johns-creek-ga-11/
LOCATION:St. Benedicts Catholic Church\, 11045 Parsons Rd\, Johns Creek\, GA\, 30097\, United States
END:VEVENT
BEGIN:VEVENT
DTSTART;TZID=America/New_York:20250808T080000
DTEND;TZID=America/New_York:20250810T170000
DTSTAMP:20260423T195719
CREATED:20250801T185720Z
LAST-MODIFIED:20250801T185720Z
UID:1077-1754640000-1754845200@stigmataofstfrancis.org
SUMMARY:ARG - Ridgecrest\, NC Aug 8-10 - NO Fraternity Meeting this month
DESCRIPTION:https://maps.app.goo.gl/rPrvyc6EKHM4ZLoH7
URL:https://stigmataofstfrancis.org/event/arg-ridgecrest-nc-aug-8-10-no-fraternity-meeting-this-month/
END:VEVENT
BEGIN:VEVENT
DTSTART;TZID=America/New_York:20250720T130000
DTEND;TZID=America/New_York:20250720T170000
DTSTAMP:20260423T195719
CREATED:20250112T020311Z
LAST-MODIFIED:20250112T020311Z
UID:1001-1753016400-1753030800@stigmataofstfrancis.org
SUMMARY:Fraternity Meeting – St. Benedict Johns Creek\, GA
DESCRIPTION:
URL:https://stigmataofstfrancis.org/event/fraternity-meeting-st-benedict-johns-creek-ga-10/
LOCATION:St. Benedicts Catholic Church\, 11045 Parsons Rd\, Johns Creek\, GA\, 30097\, United States
END:VEVENT
BEGIN:VEVENT
DTSTART;TZID=America/New_York:20250608T130000
DTEND;TZID=America/New_York:20250608T170000
DTSTAMP:20260423T195719
CREATED:20250112T020233Z
LAST-MODIFIED:20250112T020233Z
UID:999-1749387600-1749402000@stigmataofstfrancis.org
SUMMARY:Fraternity Meeting – St. Benedict Johns Creek\, GA
DESCRIPTION:
URL:https://stigmataofstfrancis.org/event/fraternity-meeting-st-benedict-johns-creek-ga-9/
LOCATION:St. Benedicts Catholic Church\, 11045 Parsons Rd\, Johns Creek\, GA\, 30097\, United States
END:VEVENT
BEGIN:VEVENT
DTSTART;TZID=America/New_York:20250518T130000
DTEND;TZID=America/New_York:20250518T170000
DTSTAMP:20260423T195719
CREATED:20250112T020147Z
LAST-MODIFIED:20250112T020147Z
UID:997-1747573200-1747587600@stigmataofstfrancis.org
SUMMARY:Fraternity Meeting – St. Benedict Johns Creek\, GA
DESCRIPTION:
URL:https://stigmataofstfrancis.org/event/fraternity-meeting-st-benedict-johns-creek-ga-8/
LOCATION:St. Benedicts Catholic Church\, 11045 Parsons Rd\, Johns Creek\, GA\, 30097\, United States
END:VEVENT
BEGIN:VEVENT
DTSTART;TZID=America/New_York:20250413T130000
DTEND;TZID=America/New_York:20250413T170000
DTSTAMP:20260423T195719
CREATED:20250112T020021Z
LAST-MODIFIED:20250112T020021Z
UID:995-1744549200-1744563600@stigmataofstfrancis.org
SUMMARY:Fraternity Meeting – St. Benedict Johns Creek\, GA
DESCRIPTION:
URL:https://stigmataofstfrancis.org/event/fraternity-meeting-st-benedict-johns-creek-ga-7/
LOCATION:St. Benedicts Catholic Church\, 11045 Parsons Rd\, Johns Creek\, GA\, 30097\, United States
END:VEVENT
BEGIN:VEVENT
DTSTART;TZID=America/New_York:20250316T130000
DTEND;TZID=America/New_York:20250316T170000
DTSTAMP:20260423T195719
CREATED:20240923T015125Z
LAST-MODIFIED:20240923T015125Z
UID:972-1742130000-1742144400@stigmataofstfrancis.org
SUMMARY:Fraternity Meeting – St. Benedict Johns Creek\, GA
DESCRIPTION:
URL:https://stigmataofstfrancis.org/event/fraternity-meeting-st-benedict-johns-creek-ga-6/
LOCATION:St. Benedicts Catholic Church\, 11045 Parsons Rd\, Johns Creek\, GA\, 30097\, United States
END:VEVENT
BEGIN:VEVENT
DTSTART;TZID=America/New_York:20250209T130000
DTEND;TZID=America/New_York:20250209T170000
DTSTAMP:20260423T195719
CREATED:20240923T015022Z
LAST-MODIFIED:20240923T015022Z
UID:970-1739106000-1739120400@stigmataofstfrancis.org
SUMMARY:Fraternity Meeting – St. Benedict Johns Creek\, GA
DESCRIPTION:
URL:https://stigmataofstfrancis.org/event/fraternity-meeting-st-benedict-johns-creek-ga-5/
LOCATION:St. Benedicts Catholic Church\, 11045 Parsons Rd\, Johns Creek\, GA\, 30097\, United States
END:VEVENT
BEGIN:VEVENT
DTSTART;TZID=America/New_York:20250119T130000
DTEND;TZID=America/New_York:20250119T170000
DTSTAMP:20260423T195719
CREATED:20240923T014940Z
LAST-MODIFIED:20240923T014940Z
UID:968-1737291600-1737306000@stigmataofstfrancis.org
SUMMARY:Fraternity Meeting – St. Benedict Johns Creek\, GA
DESCRIPTION:
URL:https://stigmataofstfrancis.org/event/fraternity-meeting-st-benedict-johns-creek-ga-4/
LOCATION:St. Benedicts Catholic Church\, 11045 Parsons Rd\, Johns Creek\, GA\, 30097\, United States
END:VEVENT
BEGIN:VEVENT
DTSTART;TZID=America/New_York:20241215T130000
DTEND;TZID=America/New_York:20241215T170000
DTSTAMP:20260423T195719
CREATED:20240923T014629Z
LAST-MODIFIED:20240923T014831Z
UID:963-1734267600-1734282000@stigmataofstfrancis.org
SUMMARY:Fraternity Meeting – St. Monica\, Duluth\, GA
DESCRIPTION:
URL:https://stigmataofstfrancis.org/event/fraternity-meeting-st-benedict-johns-creek-ga-3/
LOCATION:St. Monica Catholic Church\, 1700 Buford Hwy\, Duluth\, GA\, 30096
END:VEVENT
BEGIN:VEVENT
DTSTART;TZID=America/New_York:20241117T130000
DTEND;TZID=America/New_York:20241117T170000
DTSTAMP:20260423T195719
CREATED:20240721T205858Z
LAST-MODIFIED:20240721T205858Z
UID:918-1731848400-1731862800@stigmataofstfrancis.org
SUMMARY:Fraternity Meeting – St. Benedict Johns Creek\, GA
DESCRIPTION:
URL:https://stigmataofstfrancis.org/event/fraternity-meeting-st-benedict-johns-creek-ga-2/
END:VEVENT
BEGIN:VEVENT
DTSTART;TZID=America/New_York:20241013T130000
DTEND;TZID=America/New_York:20241013T170000
DTSTAMP:20260423T195719
CREATED:20240721T205737Z
LAST-MODIFIED:20240721T205737Z
UID:916-1728824400-1728838800@stigmataofstfrancis.org
SUMMARY:Fraternity Meeting – St. Benedict Johns Creek\, GA
DESCRIPTION:
URL:https://stigmataofstfrancis.org/event/fraternity-meeting-st-benedict-johns-creek-ga/
END:VEVENT
BEGIN:VEVENT
DTSTART;TZID=America/New_York:20240922T130000
DTEND;TZID=America/New_York:20240922T170000
DTSTAMP:20260423T195719
CREATED:20240721T203447Z
LAST-MODIFIED:20240721T205946Z
UID:909-1727010000-1727024400@stigmataofstfrancis.org
SUMMARY:Fraternity Meeting – St. Benedict Johns Creek\, GA
DESCRIPTION:
URL:https://stigmataofstfrancis.org/event/fraternity-meeting-st-benedict/
LOCATION:St. Benedicts Catholic Church\, 11045 Parsons Rd\, Johns Creek\, GA\, 30097\, United States
END:VEVENT
BEGIN:VEVENT
DTSTART;VALUE=DATE:20240809
DTEND;VALUE=DATE:20240812
DTSTAMP:20260423T195719
CREATED:20240721T202951Z
LAST-MODIFIED:20240722T182734Z
UID:907-1723161600-1723420799@stigmataofstfrancis.org
SUMMARY:ARG - Ridgecrest\, NC Aug 9-11 - NO Fraternity Meeting this month
DESCRIPTION:Map: \nhttps://maps.app.goo.gl/rPrvyc6EKHM4ZLoH7
URL:https://stigmataofstfrancis.org/event/arg-ridgecrest-nc/
END:VEVENT
END:VCALENDAR